BEGIN:VCALENDAR
METHOD:PUBLISH
PRODID:-//github.com/rianjs/ical.net//NONSGML ical.net 4.0//EN
VERSION:2.0
BEGIN:VTIMEZONE
TZID:Australia/Sydney
X-LIC-LOCATION:Australia/Sydney
BEGIN:STANDARD
DTSTART:20250406T030000
RRULE:FREQ=YEARLY;BYDAY=1SU;BYMONTH=4
TZNAME:AEST
TZOFFSETFROM:+1100
TZOFFSETTO:+1000
END:STANDARD
BEGIN:DAYLIGHT
DTSTART:20241006T040000
RRULE:FREQ=YEARLY;BYDAY=1SU;BYMONTH=10
TZNAME:AEDT
TZOFFSETFROM:+1000
TZOFFSETTO:+0900
END:DAYLIGHT
END:VTIMEZONE
BEGIN:VEVENT
DESCRIPTION;LANGUAGE=en-AU:QA without end time\nhttps://play-pointrussell.
 opencities.com/Charlottenc/Meeting-page-without-end-time
DTEND:20260422T235959
DTSTAMP:20260421T210745Z
DTSTART:20260422T210000
LOCATION:
SEQUENCE:0
SUMMARY;LANGUAGE=en-AU:22 Apr 2026 - Testing Meetings
UID:OpenCities.093a2157-e68c-4bfb-b390-a41cc8b6f9c3.22002026210400
BEGIN:VALARM
ACTION:DISPLAY
DESCRIPTION:Reminder
DURATION:P0D
TRIGGER:P0D
END:VALARM
END:VEVENT
END:VCALENDAR
